BEGIN:VCALENDAR
PRODID:-//dvv-bw.de//dvv.Portalplattform//DE
VERSION:2.0
METHOD:PUBLISH
BEGIN:VEVENT
DTSTART:20260520T140000Z
DTEND:20260520T150000Z
DTSTAMP:20260420T175344Z
UID:523254591753-523254591653-1779228000000
SUMMARY:Lesen mit Hund
LOCATION:Stadtbücherei | Kutschersaal\, Webergasse 4-6\, 73728 Esslingen am Neckar
DESCRIPTION:Für Kinder von 7 bis 10 JahrenLesen mit Hund – dein besonderes Leseabenteuer Mach dich bereit für ein ganz besonderes Leseerlebnis“ Bei „Lesen mit Hund“ kannst du in entspannter Atmosphäre lesen\, lachen und Geschichten lebendig werden lassen – ohne Druck\, ohne Stress. An deiner Seite sitzt ein freundlicher Hund\, der dir aufmerksam zuhört und dich mit seiner ruhigen Art stärkt. So macht Lesen richtig Spaß – Schritt für Schritt\, Wort für Wort\, Pfote für Pfote. Melde dich gleich an\, denn unsere Plätze sind begrenzt!
CLASS:PUBLIC
X-ALT-DESC;FMTTYPE=text/html:Für Kinder von 7 bis 10 JahrenLesen mit Hund &ndash; dein besonderes Leseabenteuer Mach dich bereit für ein ganz besonderes Leseerlebnis&ldquo; Bei &bdquo;Lesen mit Hund&ldquo; kannst du in entspannter Atmosphäre lesen\, lachen und Geschichten lebendig werden lassen &ndash; ohne Druck\, ohne Stress. An deiner Seite sitzt ein freundlicher Hund\, der dir aufmerksam zuhört und dich mit seiner ruhigen Art stärkt. So macht Lesen richtig Spaß &ndash; Schritt für Schritt\, Wort für Wort\, Pfote für Pfote. Melde dich gleich an\, denn unsere Plätze sind begrenzt!
END:VEVENT
END:VCALENDAR
