BEGIN:VCALENDAR
PRODID:-//dvv-bw.de//dvv.Portalplattform//DE
VERSION:2.0
METHOD:PUBLISH
BEGIN:VEVENT
DTSTART:20260703T170000Z
DTEND:20260703T200000Z
DTSTAMP:20260422T065301Z
UID:523254641203-523254645902-1783029600000
SUMMARY:Medienflohmarkt
LOCATION:Stadtbücherei | Kutschersaal\, Webergasse 4-6\, 73728 Esslingen am Neckar
DESCRIPTION:Beim Medienflohmarkt der Stadtbibliothek gibt es wieder zahlreiche Schnäppchen zu entdecken. Ausgesonderte Bücher\, CDs\, DVDs und weitere Medien werden zu günstigen Preisen angeboten. Ob spannende Romane\, Kinderbücher oder Sachliteratur – für jeden ist etwas dabei. Der Flohmarkt lädt zum Stöbern\, Entdecken und Mitnehmen ein und bietet eine ideale Gelegenheit\, neue Leseschätze zu finden und gleichzeitig die Bibliothek zu unterstützen.
CLASS:PUBLIC
X-ALT-DESC;FMTTYPE=text/html:Beim Medienflohmarkt der Stadtbibliothek gibt es wieder zahlreiche Schnäppchen zu entdecken. Ausgesonderte Bücher\, CDs\, DVDs und weitere Medien werden zu günstigen Preisen angeboten. Ob spannende Romane\, Kinderbücher oder Sachliteratur &ndash; für jeden ist etwas dabei. Der Flohmarkt lädt zum Stöbern\, Entdecken und Mitnehmen ein und bietet eine ideale Gelegenheit\, neue Leseschätze zu finden und gleichzeitig die Bibliothek zu unterstützen.
END:VEVENT
END:VCALENDAR
